BEGIN:VCALENDAR
VERSION:2.0
PRODID:-//theborderline.ca - ECPv6.15.20//NONSGML v1.0//EN
CALSCALE:GREGORIAN
METHOD:PUBLISH
X-ORIGINAL-URL:https://theborderline.ca
X-WR-CALDESC:Events for theborderline.ca
REFRESH-INTERVAL;VALUE=DURATION:PT1H
X-Robots-Tag:noindex
X-PUBLISHED-TTL:PT1H
BEGIN:VTIMEZONE
TZID:America/Toronto
BEGIN:DAYLIGHT
TZOFFSETFROM:-0500
TZOFFSETTO:-0400
TZNAME:EDT
DTSTART:20240310T070000
END:DAYLIGHT
BEGIN:STANDARD
TZOFFSETFROM:-0400
TZOFFSETTO:-0500
TZNAME:EST
DTSTART:20241103T060000
END:STANDARD
BEGIN:DAYLIGHT
TZOFFSETFROM:-0500
TZOFFSETTO:-0400
TZNAME:EDT
DTSTART:20250309T070000
END:DAYLIGHT
BEGIN:STANDARD
TZOFFSETFROM:-0400
TZOFFSETTO:-0500
TZNAME:EST
DTSTART:20251102T060000
END:STANDARD
BEGIN:DAYLIGHT
TZOFFSETFROM:-0500
TZOFFSETTO:-0400
TZNAME:EDT
DTSTART:20260308T070000
END:DAYLIGHT
BEGIN:STANDARD
TZOFFSETFROM:-0400
TZOFFSETTO:-0500
TZNAME:EST
DTSTART:20261101T060000
END:STANDARD
END:VTIMEZONE
BEGIN:VEVENT
DTSTART;TZID=America/Toronto:20250315T160000
DTEND;TZID=America/Toronto:20250315T200000
DTSTAMP:20260419T130105
CREATED:20250315T210909Z
LAST-MODIFIED:20250315T211157Z
UID:20660-1742054400-1742068800@theborderline.ca
SUMMARY:Sault College Powwow: Niigan NaaBidaa "Seeing Forward"
DESCRIPTION:grand Entry noon & 6pm\, Community Feast 4:30pm
URL:https://theborderline.ca/event/sault-college-powwow-niigan-naabidaa-seeing-forward/
CATEGORIES:Comunity,Powwow
END:VEVENT
BEGIN:VEVENT
DTSTART;TZID=America/Toronto:20250114T080000
DTEND;TZID=America/Toronto:20250114T170000
DTSTAMP:20260419T130105
CREATED:20250114T170159Z
LAST-MODIFIED:20250114T173903Z
UID:19510-1736841600-1736874000@theborderline.ca
SUMMARY:Shawana Fancy Special Championship : Gathering at the Rapids
DESCRIPTION:Calling all fancy dancers far n nearNew venue location GFL memorial gardensPowwow poster n other specials in comments as well as host hotels information
URL:https://theborderline.ca/event/shawana-fancy-special-championship-at-gathering-at-the-rapids/
CATEGORIES:Powwow
ATTACH;FMTTYPE=image/jpeg:https://theborderline.ca/wp-content/uploads/2025/01/472621965_9207039419356553_2556888069866375027_n-shawana.jpg
END:VEVENT
END:VCALENDAR